BEGIN:VCALENDAR
VERSION:2.0
PRODID:-//LuLu&#039;s - ECPv6.15.12.2//NONSGML v1.0//EN
CALSCALE:GREGORIAN
METHOD:PUBLISH
X-ORIGINAL-URL:https://lulusfunfoodmusic.com
X-WR-CALDESC:Events for LuLu&#039;s
REFRESH-INTERVAL;VALUE=DURATION:PT1H
X-Robots-Tag:noindex
X-PUBLISHED-TTL:PT1H
BEGIN:VTIMEZONE
TZID:America/Chicago
BEGIN:DAYLIGHT
TZOFFSETFROM:-0600
TZOFFSETTO:-0500
TZNAME:CDT
DTSTART:20240310T080000
END:DAYLIGHT
BEGIN:STANDARD
TZOFFSETFROM:-0500
TZOFFSETTO:-0600
TZNAME:CST
DTSTART:20241103T070000
END:STANDARD
BEGIN:DAYLIGHT
TZOFFSETFROM:-0600
TZOFFSETTO:-0500
TZNAME:CDT
DTSTART:20250309T080000
END:DAYLIGHT
BEGIN:STANDARD
TZOFFSETFROM:-0500
TZOFFSETTO:-0600
TZNAME:CST
DTSTART:20251102T070000
END:STANDARD
BEGIN:DAYLIGHT
TZOFFSETFROM:-0600
TZOFFSETTO:-0500
TZNAME:CDT
DTSTART:20260308T080000
END:DAYLIGHT
BEGIN:STANDARD
TZOFFSETFROM:-0500
TZOFFSETTO:-0600
TZNAME:CST
DTSTART:20261101T070000
END:STANDARD
END:VTIMEZONE
BEGIN:VEVENT
DTSTART;TZID=America/Chicago:20251031T170000
DTEND;TZID=America/Chicago:20251031T210000
DTSTAMP:20260423T141517
CREATED:20250415T171820Z
LAST-MODIFIED:20250923T175120Z
UID:10002323-1761930000-1761944400@lulusfunfoodmusic.com
SUMMARY:Martin Lane - Destin
DESCRIPTION:Martin Lane is an acoustic duo specializing in classic rock\, 90’s country and sing-along music. They have a vast repertoire of laidback dinner music to fun party and dance tunes\, as well as original songs. This fun duo\, comprised of singer-songwriter\, Laura Lane\, and Nashville producer\, engineer\, musician and singer-songwriter\, Chip Martin has energetic stage chemistry and tight harmonies. With a flair for being able to pull almost any request from thin air\, they encourage audience participation and requests.
URL:https://lulusfunfoodmusic.com/event/martin-lane-destin/2025-10-31/
LOCATION:Destin\, 4607 Legendary Marina Dr\, Florida\, 32541
ATTACH;FMTTYPE=image/jpeg:https://lulusfunfoodmusic.com/wp-content/uploads/2025/04/Martin-Lane.jpg
END:VEVENT
BEGIN:VEVENT
DTSTART;TZID=America/Chicago:20251101T160000
DTEND;TZID=America/Chicago:20251101T200000
DTSTAMP:20260423T141517
CREATED:20240715T144029Z
LAST-MODIFIED:20251210T005034Z
UID:10002390-1762012800-1762027200@lulusfunfoodmusic.com
SUMMARY:GypsyPearl - Gulf Shores
DESCRIPTION:The GypsyPearl Duo brings a vibrant mix of soulful vocals\, tight harmonies\, and acoustic energy to every performance along the Gulf Coast. Known for their dynamic stage presence and ability to read a crowd\, they blend modern country\, classic rock\, and heartfelt originals into a feel-good show that keeps guests engaged from the first song to the last. \nTheir sound pulls influence from artists like Fleetwood Mac\, Miranda Lambert\, Chris Stapleton\, and The Eagles\, delivering familiar favorites with a fresh\, coastal twist. Whether it’s an upbeat afternoon set or a relaxed evening vibe\, GypsyPearl Duo brings the perfect mix of polish\, personality\, and coastal charm to LuLu’s Gulf Shores.
URL:https://lulusfunfoodmusic.com/event/gypsy-pearl-gulf-shores/2025-11-01/
LOCATION:Gulf Shores\, AL
ATTACH;FMTTYPE=image/jpeg:https://lulusfunfoodmusic.com/wp-content/uploads/2024/07/GypsyPearl.jpg
END:VEVENT
BEGIN:VEVENT
DTSTART;TZID=America/Chicago:20251101T160000
DTEND;TZID=America/Chicago:20251101T200000
DTSTAMP:20260423T141517
CREATED:20240905T234047Z
LAST-MODIFIED:20250923T171817Z
UID:10002396-1762012800-1762027200@lulusfunfoodmusic.com
SUMMARY:Coconut Radio - Destin
DESCRIPTION:Award winning violinist and Trop Rock nominee Sue Kittredge and singer/songwriter Steve Reeths of Coconut Radio have been playing dumps and palaces from Chicago and Nashville down to Tampa and Key West since meeting in 1992. Currently living in the panhandle of Florida\, the duo spend their time writing songs\, playing music and living the dream on the Emerald Coast. The music of Coconut Radio is meant to share that feeling\, those emotions one feels sharing a cold one with friends at the tiki bar or watching a beautiful sunset. Susan Kittredge\, violinst extrordinaire\, has been twice nominated for one of five Trop Rock female performers nation wide. Their two self-released CDs are being played nation wide by Trop Rock radio stations from Key West to California.
URL:https://lulusfunfoodmusic.com/event/coconut-radio-destin/2025-11-01/
LOCATION:Destin\, 4607 Legendary Marina Dr\, Florida\, 32541
ATTACH;FMTTYPE=image/jpeg:https://lulusfunfoodmusic.com/wp-content/uploads/2024/09/CoConut-Radio.jpeg
END:VEVENT
BEGIN:VEVENT
DTSTART;TZID=America/Chicago:20251101T170000
DTEND;TZID=America/Chicago:20251101T210000
DTSTAMP:20260423T141517
CREATED:20240718T131919Z
LAST-MODIFIED:20260226T144146Z
UID:10002489-1762016400-1762030800@lulusfunfoodmusic.com
SUMMARY:BJ Craven - North Myrtle Beach
DESCRIPTION:BJ Craven is a long time professional musician with several thousand gigs performed from stages all over the country. This SC native is now focusing on his solo career as a live looping artist; creating an entire band’s worth of sound\, live! BJ’s song selection spans several decades and pays tribute to the rock n’ roll artists of old while also recognizing todays hit-makers.
URL:https://lulusfunfoodmusic.com/event/bj-craven-north-myrtle-beach/2025-11-01/
LOCATION:North Myrtle Beach\, 4954 Hwy 17 S\, North Myrtle Beach\, SC\, 29582\, United States
ATTACH;FMTTYPE=image/jpeg:https://lulusfunfoodmusic.com/wp-content/uploads/2024/07/BJ-Craven.jpg
END:VEVENT
BEGIN:VEVENT
DTSTART;VALUE=DATE:20251102
DTEND;VALUE=DATE:20251103
DTSTAMP:20260423T141517
CREATED:20251019T131811Z
LAST-MODIFIED:20251023T142901Z
UID:10002498-1762081200-1762117200@lulusfunfoodmusic.com
SUMMARY:NFL FOOTBALL SUNDAYS-North Myrtle Beach
DESCRIPTION:Come on out for NFL Sundays at LuLu’s! Fun\,Food\,Family friendly vibes! Dad watches games\, Mom shops\, The Kids plays on Beach!
URL:https://lulusfunfoodmusic.com/event/nfl-football-sundays-north-myrtle-beach/2025-11-02/
LOCATION:North Myrtle Beach\, 4954 Hwy 17 S\, North Myrtle Beach\, SC\, 29582\, United States
ATTACH;FMTTYPE=image/png:https://lulusfunfoodmusic.com/wp-content/uploads/2025/10/Web-Graphic-900x600-1.png
END:VEVENT
BEGIN:VEVENT
DTSTART;TZID=America/Chicago:20251102T130000
DTEND;TZID=America/Chicago:20251102T170000
DTSTAMP:20260423T141517
CREATED:20250610T141538Z
LAST-MODIFIED:20251020T155444Z
UID:10002400-1762088400-1762102800@lulusfunfoodmusic.com
SUMMARY:Marc Harris - Destin
DESCRIPTION:Born and raised in Nashville\, Marc Harris spent much of his early childhood in his Father’s apparel store\, which outfitted some of classic country’s legends. Influenced by the greats of country and rock\, Marc developed his own twangy melodic sound\, Harris started out playing night clubs in Nashville throughout high school and toured the southeast playing frat parties during college. Marc made a conscious decision to catch a tour bus heading out of town in the early 90s and hit ‘The Road’ with Lee Roy Parnell as well as John Berry\, Stacey Dean Campbell\, among others. After touring as a sideman for country artists throughout the 90s\, Marc moved to Point Washington Florida in 2001 where his creativity and songwriting flourished.  His original music has been dubbed “Southern Surf”. \nThe Athens Flagpole referred to Harris’ music as “Guitar Strong Modern Rock\,” while the Destin Beachcomber described it as “The best kind of singer-songwriter material- intelligent\, well crafted\, and accessible to twang lovers and haters alike.” The Birmingham weekly aptly called Marc’s music “A Mix of Renegade Country and Beach-Tinged Tunes.”
URL:https://lulusfunfoodmusic.com/event/marc-harris-destin-2/2025-11-02/
LOCATION:Destin\, 4607 Legendary Marina Dr\, Florida\, 32541
ATTACH;FMTTYPE=image/jpeg:https://lulusfunfoodmusic.com/wp-content/uploads/2024/07/Marc-Harris.jpg
END:VEVENT
BEGIN:VEVENT
DTSTART;TZID=America/Chicago:20251102T130000
DTEND;TZID=America/Chicago:20251102T170000
DTSTAMP:20260423T141517
CREATED:20250708T231329Z
LAST-MODIFIED:20250923T180636Z
UID:10002436-1762088400-1762102800@lulusfunfoodmusic.com
SUMMARY:Riley Lynn- Gulf Shores
DESCRIPTION:Based in both Gulf Shores\, AL\, and Nashville\, TN\, Riley Lynn is a country singer-songwriter focusing on story-telling in her music. She writes and performs her own original songs and also captivates audiences with her performances of well-known tracks from country\, rock\, and pop genres. With over six years of live performance experience\, Riley Lynn’s performances are characterized by her authentic country sound and strong vocals.
URL:https://lulusfunfoodmusic.com/event/riley-lynn-gulf-shores/2025-11-02/
LOCATION:Gulf Shores\, AL
ATTACH;FMTTYPE=image/png:https://lulusfunfoodmusic.com/wp-content/uploads/2025/07/Screenshot-2025-07-08-at-7.20.10 PM.png
END:VEVENT
BEGIN:VEVENT
DTSTART;TZID=America/Chicago:20251103T110000
DTEND;TZID=America/Chicago:20251103T210000
DTSTAMP:20260423T141517
CREATED:20251023T144650Z
LAST-MODIFIED:20260205T162619Z
UID:10002561-1762167600-1762203600@lulusfunfoodmusic.com
SUMMARY:Kids Eat Free Mondays-North Myrtle Beach
DESCRIPTION:Mondays just got even better! Bring the whole family to LuLu’s — where kids eat free all day with the purchase of an entrée. Fun\, food\, and family time all wrapped into one sunny Monday at the beach!
URL:https://lulusfunfoodmusic.com/event/kids-eat-free-mondays-north-myrtle-beach/2025-11-03/
LOCATION:North Myrtle Beach\, 4954 Hwy 17 S\, North Myrtle Beach\, SC\, 29582\, United States
ATTACH;FMTTYPE=image/png:https://lulusfunfoodmusic.com/wp-content/uploads/2025/10/ChatGPT-Image-Oct-23-2025-10_33_23-AM.png
END:VEVENT
BEGIN:VEVENT
DTSTART;TZID=America/Chicago:20251103T160000
DTEND;TZID=America/Chicago:20251103T200000
DTSTAMP:20260423T141517
CREATED:20241101T163614Z
LAST-MODIFIED:20250917T144025Z
UID:10001931-1762185600-1762200000@lulusfunfoodmusic.com
SUMMARY:Brent Burns - Gulf Shores
DESCRIPTION:Brent Burns\, 4pm
URL:https://lulusfunfoodmusic.com/event/brent-burns-gulf-shores-2/2025-11-03/
LOCATION:Gulf Shores\, AL
ATTACH;FMTTYPE=image/jpeg:https://lulusfunfoodmusic.com/wp-content/uploads/2024/07/Brent-Burns.jpg
END:VEVENT
BEGIN:VEVENT
DTSTART;TZID=America/Chicago:20251104T170000
DTEND;TZID=America/Chicago:20251104T190000
DTSTAMP:20260423T141517
CREATED:20251021T234220Z
LAST-MODIFIED:20260205T162505Z
UID:10002516-1762275600-1762282800@lulusfunfoodmusic.com
SUMMARY:Trivia Tuesday-North Myrtle Beach
DESCRIPTION:🎤 Trivia Tuesdays at LuLu’s!\nThink you’ve got the brains to beat the beach crowd? Come test your knowledge every Tuesday from 5–7 PM!\nIt’s free to play\, individual competition\, and there are fun prizes for top players. Enjoy great food\, drinks\, and plenty of laughs while you play! 🧠🌴
URL:https://lulusfunfoodmusic.com/event/trivia-tuesday-north-myrtle-beach/2025-11-04/
LOCATION:North Myrtle Beach\, 4954 Hwy 17 S\, North Myrtle Beach\, SC\, 29582\, United States
ATTACH;FMTTYPE=image/png:https://lulusfunfoodmusic.com/wp-content/uploads/2025/10/Trivia-Web.png
END:VEVENT
BEGIN:VEVENT
DTSTART;TZID=America/Chicago:20251105T170000
DTEND;TZID=America/Chicago:20251105T190000
DTSTAMP:20260423T141517
CREATED:20251022T000733Z
LAST-MODIFIED:20260205T164015Z
UID:10002538-1762362000-1762369200@lulusfunfoodmusic.com
SUMMARY:Music Bingo Wednesdays-North Myrtle Beach
DESCRIPTION:Ready to rock your bingo card? 🤘\nIt’s Music Bingo Wednesdays at LuLu’s\, 5–7 PM — free to play\, fun prizes\, and your favorite hits all evening long! Bring your friends\, grab some food and let the music play! 🎵🌞
URL:https://lulusfunfoodmusic.com/event/music-bingo-wednesdays-north-myrtle-beach/2025-11-05/
LOCATION:North Myrtle Beach\, 4954 Hwy 17 S\, North Myrtle Beach\, SC\, 29582\, United States
ATTACH;FMTTYPE=image/png:https://lulusfunfoodmusic.com/wp-content/uploads/2025/10/GetAttachmentThumbnail.png
END:VEVENT
BEGIN:VEVENT
DTSTART;TZID=America/Chicago:20251106T160000
DTEND;TZID=America/Chicago:20251106T200000
DTSTAMP:20260423T141517
CREATED:20240905T233557Z
LAST-MODIFIED:20250923T172511Z
UID:10002406-1762444800-1762459200@lulusfunfoodmusic.com
SUMMARY:Ricky Joe Wilson - Destin
DESCRIPTION:
URL:https://lulusfunfoodmusic.com/event/ricky-joe-wilson-destin/2025-11-06/
LOCATION:Destin\, 4607 Legendary Marina Dr\, Florida\, 32541
ATTACH;FMTTYPE=image/jpeg:https://lulusfunfoodmusic.com/wp-content/uploads/2024/09/Rickie-Joe-Wilson.jpg
END:VEVENT
BEGIN:VEVENT
DTSTART;TZID=America/Chicago:20251106T170000
DTEND;TZID=America/Chicago:20251106T210000
DTSTAMP:20260423T141517
CREATED:20240905T230644Z
LAST-MODIFIED:20260225T005214Z
UID:10002559-1762448400-1762462800@lulusfunfoodmusic.com
SUMMARY:Brendan Kirby - North Myrtle Beach
DESCRIPTION:Brendan Kirby-South Carolina native and accomplished musician known for his dynamic performances across the Myrtle Beach area. Born and raised in rural South Carolina\, Brendan began playing guitar at the age of 14\, quickly developing a deep passion for music.At 15\, Brendan moved to Nashville\, Tennessee\, where he had the opportunity to perform at renowned venues such as Tootsies\, Honky Tonk Central\, and Layla’s. He also appeared on “Nashville Spotlight\,” a television show featuring up-and-coming singers.After returning to South Carolina\, Brendan continued to build his reputation as a versatile musician\, performing a wide variety of music from classics to newer hits. His set lists include genres like country\, pop\, and rock\, featuring artists such as Ed Sheeran\, John Mayer\, and Chris Stapleton.
URL:https://lulusfunfoodmusic.com/event/brendan-kirby-north-myrtle-beach/2025-11-06/
LOCATION:North Myrtle Beach\, 4954 Hwy 17 S\, North Myrtle Beach\, SC\, 29582\, United States
ATTACH;FMTTYPE=image/jpeg:https://lulusfunfoodmusic.com/wp-content/uploads/2024/09/Brendan-Kirby.jpg
END:VEVENT
BEGIN:VEVENT
DTSTART;TZID=America/Chicago:20251106T170000
DTEND;TZID=America/Chicago:20251106T210000
DTSTAMP:20260423T141517
CREATED:20250923T194427Z
LAST-MODIFIED:20250923T223006Z
UID:10002472-1762448400-1762462800@lulusfunfoodmusic.com
SUMMARY:Frank Brown Songwriters Festival-Gulf Shores
DESCRIPTION:5:00-6:10 Austin Church\, Brent Moyer\, Webb Dalton \n6:20-7:30 Doug Drake\, Isaac Moore\, Jessie Ritter \n7:40-8:50 Sean Gasaway\, Tim Styles\, Bob Tobin
URL:https://lulusfunfoodmusic.com/event/frank-brown-songwriters-festival-gulf-shores/
LOCATION:Gulf Shores\, AL
ATTACH;FMTTYPE=image/jpeg:https://lulusfunfoodmusic.com/wp-content/uploads/2025/09/FBSF-Thursday-2025.jpg
END:VEVENT
BEGIN:VEVENT
DTSTART;TZID=America/Chicago:20251107T160000
DTEND;TZID=America/Chicago:20251107T200000
DTSTAMP:20260423T141517
CREATED:20240712T201552Z
LAST-MODIFIED:20251209T215146Z
UID:10002394-1762531200-1762545600@lulusfunfoodmusic.com
SUMMARY:Gypsy Pearl - Destin
DESCRIPTION:GYPSYPEARL DUO — DESTIN \nThe GypsyPearl Duo brings their signature blend of soulful vocals\, tight harmonies\, and acoustic charm to the Emerald Coast. Known for creating an easy\, feel-good atmosphere\, they mix modern country\, classic rock\, and crowd-favorite hits into a smooth\, high-energy set that fits perfectly with LuLu’s laid-back Destin vibe. \nWith influences ranging from Fleetwood Mac and Miranda Lambert to Chris Stapleton\, The Eagles\, and today’s top artists\, GypsyPearl Duo delivers familiar songs with a refreshing coastal twist. Whether they’re setting the tone for a sunny afternoon or winding down a relaxing evening\, they bring polished musicianship and warm personality to every performance. \nA Destin favorite—easy to listen to\, impossible not to enjoy.
URL:https://lulusfunfoodmusic.com/event/gypsy-pearl-destin/2025-11-07/
LOCATION:Destin\, 4607 Legendary Marina Dr\, Florida\, 32541
ATTACH;FMTTYPE=image/jpeg:https://lulusfunfoodmusic.com/wp-content/uploads/2024/07/GypsyPearl.jpg
END:VEVENT
BEGIN:VEVENT
DTSTART;TZID=America/Chicago:20251107T170000
DTEND;TZID=America/Chicago:20251107T210000
DTSTAMP:20260423T141517
CREATED:20250919T152149Z
LAST-MODIFIED:20260311T145931Z
UID:10002602-1762534800-1762549200@lulusfunfoodmusic.com
SUMMARY:David Fair-North Myrtle Beach
DESCRIPTION:David Fair- is a Myrtle Beach–based singer-songwriter with roots in Nashville. Blending Americana\, country\, and soulful storytelling\, he connects with audiences through heartfelt lyrics and powerful vocals. Known for his genuine stage presence\, David brings a mix of originals and crowd favorites that make every show feel personal.
URL:https://lulusfunfoodmusic.com/event/david-fair-north-myrtle-beach/2025-11-07/
LOCATION:North Myrtle Beach\, 4954 Hwy 17 S\, North Myrtle Beach\, SC\, 29582\, United States
ATTACH;FMTTYPE=image/webp:https://lulusfunfoodmusic.com/wp-content/uploads/2025/09/david-fair.webp
END:VEVENT
BEGIN:VEVENT
DTSTART;TZID=America/Chicago:20251107T170000
DTEND;TZID=America/Chicago:20251107T210000
DTSTAMP:20260423T141517
CREATED:20250923T195131Z
LAST-MODIFIED:20250923T222935Z
UID:10002473-1762534800-1762549200@lulusfunfoodmusic.com
SUMMARY:Frank Brown Songwriters Festival-Gulf Shores
DESCRIPTION:5:00-6:10 Hawkshaw Hawkins\, Jim McCormick\, Tony Mullins \n6:20-7:30 Ivey Campbell\, Garrett Miles\, Michael Anthony Curtis \n7:40-8:50 Josie Hope Hall\, Kat Hall\, Presley Hall (The Bennett Ball Band)
URL:https://lulusfunfoodmusic.com/event/frank-brown-songwriters-festival-gulf-shores-2/
LOCATION:Gulf Shores\, AL
ATTACH;FMTTYPE=image/jpeg:https://lulusfunfoodmusic.com/wp-content/uploads/2025/09/FBSF-Friday-2025.jpg
END:VEVENT
BEGIN:VEVENT
DTSTART;TZID=America/Chicago:20251108T160000
DTEND;TZID=America/Chicago:20251108T200000
DTSTAMP:20260423T141517
CREATED:20250610T141538Z
LAST-MODIFIED:20251020T155444Z
UID:10002401-1762617600-1762632000@lulusfunfoodmusic.com
SUMMARY:Marc Harris - Destin
DESCRIPTION:Born and raised in Nashville\, Marc Harris spent much of his early childhood in his Father’s apparel store\, which outfitted some of classic country’s legends. Influenced by the greats of country and rock\, Marc developed his own twangy melodic sound\, Harris started out playing night clubs in Nashville throughout high school and toured the southeast playing frat parties during college. Marc made a conscious decision to catch a tour bus heading out of town in the early 90s and hit ‘The Road’ with Lee Roy Parnell as well as John Berry\, Stacey Dean Campbell\, among others. After touring as a sideman for country artists throughout the 90s\, Marc moved to Point Washington Florida in 2001 where his creativity and songwriting flourished.  His original music has been dubbed “Southern Surf”. \nThe Athens Flagpole referred to Harris’ music as “Guitar Strong Modern Rock\,” while the Destin Beachcomber described it as “The best kind of singer-songwriter material- intelligent\, well crafted\, and accessible to twang lovers and haters alike.” The Birmingham weekly aptly called Marc’s music “A Mix of Renegade Country and Beach-Tinged Tunes.”
URL:https://lulusfunfoodmusic.com/event/marc-harris-destin-2/2025-11-08/
LOCATION:Destin\, 4607 Legendary Marina Dr\, Florida\, 32541
ATTACH;FMTTYPE=image/jpeg:https://lulusfunfoodmusic.com/wp-content/uploads/2024/07/Marc-Harris.jpg
END:VEVENT
BEGIN:VEVENT
DTSTART;TZID=America/Chicago:20251108T170000
DTEND;TZID=America/Chicago:20251108T210000
DTSTAMP:20260423T141517
CREATED:20250919T154842Z
LAST-MODIFIED:20250926T134608Z
UID:10002480-1762621200-1762635600@lulusfunfoodmusic.com
SUMMARY:Nathan Nininger-North Myrtle Beach
DESCRIPTION:Nathan Nininger is a Myrtle Beach–based singer and guitarist known for his acoustic rock style and soulful performances. Originally from Salem\, Virginia\, Nathan has made the Grand Strand his home\, playing regularly at local venues and bringing a mix of rock favorites and acoustic vibes to every show. His smooth vocals and laid-back energy make him a local favorite for both locals and visitors alike.
URL:https://lulusfunfoodmusic.com/event/nathan-nininger-north-myrtle-beach/2025-11-08/
LOCATION:North Myrtle Beach\, 4954 Hwy 17 S\, North Myrtle Beach\, SC\, 29582\, United States
ATTACH;FMTTYPE=image/jpeg:https://lulusfunfoodmusic.com/wp-content/uploads/2025/09/nathan.jpg
END:VEVENT
BEGIN:VEVENT
DTSTART;TZID=America/Chicago:20251108T170000
DTEND;TZID=America/Chicago:20251108T210000
DTSTAMP:20260423T141517
CREATED:20250923T201517Z
LAST-MODIFIED:20250923T222848Z
UID:10002474-1762621200-1762635600@lulusfunfoodmusic.com
SUMMARY:Frank Brown Songwriters Festival-Gulf Shores
DESCRIPTION:5:00-6:10 Tim Buppert\, Lance Cowan\, Greg Crowe \n6:20-7:30 Steve Dean\, Bill Whyte\, Victoria Venier (Hits & Grins) \n7:40-8:50 Rachel Grubb\, Lauren Spring\, Emily Stuckey (Krickets)
URL:https://lulusfunfoodmusic.com/event/frank-brown-songwriters-festival-gulf-shores-3/
LOCATION:Gulf Shores\, AL
ATTACH;FMTTYPE=image/jpeg:https://lulusfunfoodmusic.com/wp-content/uploads/2025/09/FBSF-Saturday-2025.jpg
END:VEVENT
BEGIN:VEVENT
DTSTART;VALUE=DATE:20251109
DTEND;VALUE=DATE:20251110
DTSTAMP:20260423T141517
CREATED:20251019T131811Z
LAST-MODIFIED:20251023T142901Z
UID:10002499-1762686000-1762722000@lulusfunfoodmusic.com
SUMMARY:NFL FOOTBALL SUNDAYS-North Myrtle Beach
DESCRIPTION:Come on out for NFL Sundays at LuLu’s! Fun\,Food\,Family friendly vibes! Dad watches games\, Mom shops\, The Kids plays on Beach!
URL:https://lulusfunfoodmusic.com/event/nfl-football-sundays-north-myrtle-beach/2025-11-09/
LOCATION:North Myrtle Beach\, 4954 Hwy 17 S\, North Myrtle Beach\, SC\, 29582\, United States
ATTACH;FMTTYPE=image/png:https://lulusfunfoodmusic.com/wp-content/uploads/2025/10/Web-Graphic-900x600-1.png
END:VEVENT
BEGIN:VEVENT
DTSTART;TZID=America/Chicago:20251109T130000
DTEND;TZID=America/Chicago:20251109T170000
DTSTAMP:20260423T141517
CREATED:20240717T185558Z
LAST-MODIFIED:20250923T180903Z
UID:10002438-1762693200-1762707600@lulusfunfoodmusic.com
SUMMARY:Zack Chavers - Gulf Shores
DESCRIPTION:Zack Chavers is a South Alabama native whose roots run deep in Southern gospel and solid country gold. Over the years he has developed his Americana sound that shines though the stories he tells in his songwriting.
URL:https://lulusfunfoodmusic.com/event/zack-chavers-gulf-shores-2/2025-11-09/
LOCATION:Gulf Shores\, AL
ATTACH;FMTTYPE=image/jpeg:https://lulusfunfoodmusic.com/wp-content/uploads/2024/07/Zack-Chavers.jpg
END:VEVENT
BEGIN:VEVENT
DTSTART;TZID=America/Chicago:20251109T130000
DTEND;TZID=America/Chicago:20251109T170000
DTSTAMP:20260423T141517
CREATED:20240726T163403Z
LAST-MODIFIED:20250923T172701Z
UID:10002407-1762693200-1762707600@lulusfunfoodmusic.com
SUMMARY:Brooks Johnson - Destin
DESCRIPTION:Brooks Johnson – Country/Rock Artist | Perdido Key\, FL \nBorn in Alabama\, shaped by years living in New York City\, and now rooted on Florida’s Gulf Coast\, Brooks Johnson delivers country and rock with grit\, soul\, and zero pretense. His sound is built on raw acoustic guitar work and a vocal tone that’s instantly recognizable and requires no filters: warm\, resonant\, and edged with a touch of Southern gravel. \nWhether he’s covering outlaw country\, classic rock\, or Americana\, his powerful vocals\, tone and delivery bring a fresh edge to familiar songs—real\, unpolished\, and unforgettable. \nSince returning to the Gulf Coast\, Brooks has become a go-to solo act for venues\, festivals\, and private events seeking high-quality live music without the polish or pretense. Whether he’s playing to a laid-back beach crowd or a rowdy night-time audience\, Brooks brings a setlist packed with familiar hits and hidden gems\, all delivered with unmistakable grit. \nInstagram/Tik tok/Facebook/Venmo: @Brooksjohnsonmusic \nBrooksjohnsonmusic.com
URL:https://lulusfunfoodmusic.com/event/brooks-johnson-destin/2025-11-09/
LOCATION:Destin\, 4607 Legendary Marina Dr\, Florida\, 32541
ATTACH;FMTTYPE=image/jpeg:https://lulusfunfoodmusic.com/wp-content/uploads/2024/09/Brooks-Johnson.jpg
END:VEVENT
BEGIN:VEVENT
DTSTART;TZID=America/Chicago:20251110T110000
DTEND;TZID=America/Chicago:20251110T210000
DTSTAMP:20260423T141517
CREATED:20251023T144650Z
LAST-MODIFIED:20260205T162619Z
UID:10002562-1762772400-1762808400@lulusfunfoodmusic.com
SUMMARY:Kids Eat Free Mondays-North Myrtle Beach
DESCRIPTION:Mondays just got even better! Bring the whole family to LuLu’s — where kids eat free all day with the purchase of an entrée. Fun\, food\, and family time all wrapped into one sunny Monday at the beach!
URL:https://lulusfunfoodmusic.com/event/kids-eat-free-mondays-north-myrtle-beach/2025-11-10/
LOCATION:North Myrtle Beach\, 4954 Hwy 17 S\, North Myrtle Beach\, SC\, 29582\, United States
ATTACH;FMTTYPE=image/png:https://lulusfunfoodmusic.com/wp-content/uploads/2025/10/ChatGPT-Image-Oct-23-2025-10_33_23-AM.png
END:VEVENT
BEGIN:VEVENT
DTSTART;TZID=America/Chicago:20251110T160000
DTEND;TZID=America/Chicago:20251110T200000
DTSTAMP:20260423T141517
CREATED:20241101T163614Z
LAST-MODIFIED:20250917T144025Z
UID:10001932-1762790400-1762804800@lulusfunfoodmusic.com
SUMMARY:Brent Burns - Gulf Shores
DESCRIPTION:Brent Burns\, 4pm
URL:https://lulusfunfoodmusic.com/event/brent-burns-gulf-shores-2/2025-11-10/
LOCATION:Gulf Shores\, AL
ATTACH;FMTTYPE=image/jpeg:https://lulusfunfoodmusic.com/wp-content/uploads/2024/07/Brent-Burns.jpg
END:VEVENT
BEGIN:VEVENT
DTSTART;TZID=America/Chicago:20251111T170000
DTEND;TZID=America/Chicago:20251111T190000
DTSTAMP:20260423T141517
CREATED:20251021T234220Z
LAST-MODIFIED:20260205T162505Z
UID:10002517-1762880400-1762887600@lulusfunfoodmusic.com
SUMMARY:Trivia Tuesday-North Myrtle Beach
DESCRIPTION:🎤 Trivia Tuesdays at LuLu’s!\nThink you’ve got the brains to beat the beach crowd? Come test your knowledge every Tuesday from 5–7 PM!\nIt’s free to play\, individual competition\, and there are fun prizes for top players. Enjoy great food\, drinks\, and plenty of laughs while you play! 🧠🌴
URL:https://lulusfunfoodmusic.com/event/trivia-tuesday-north-myrtle-beach/2025-11-11/
LOCATION:North Myrtle Beach\, 4954 Hwy 17 S\, North Myrtle Beach\, SC\, 29582\, United States
ATTACH;FMTTYPE=image/png:https://lulusfunfoodmusic.com/wp-content/uploads/2025/10/Trivia-Web.png
END:VEVENT
BEGIN:VEVENT
DTSTART;TZID=America/Chicago:20251112T170000
DTEND;TZID=America/Chicago:20251112T190000
DTSTAMP:20260423T141517
CREATED:20251022T000733Z
LAST-MODIFIED:20260205T164015Z
UID:10002539-1762966800-1762974000@lulusfunfoodmusic.com
SUMMARY:Music Bingo Wednesdays-North Myrtle Beach
DESCRIPTION:Ready to rock your bingo card? 🤘\nIt’s Music Bingo Wednesdays at LuLu’s\, 5–7 PM — free to play\, fun prizes\, and your favorite hits all evening long! Bring your friends\, grab some food and let the music play! 🎵🌞
URL:https://lulusfunfoodmusic.com/event/music-bingo-wednesdays-north-myrtle-beach/2025-11-12/
LOCATION:North Myrtle Beach\, 4954 Hwy 17 S\, North Myrtle Beach\, SC\, 29582\, United States
ATTACH;FMTTYPE=image/png:https://lulusfunfoodmusic.com/wp-content/uploads/2025/10/GetAttachmentThumbnail.png
END:VEVENT
BEGIN:VEVENT
DTSTART;TZID=America/Chicago:20251112T170000
DTEND;TZID=America/Chicago:20251112T210000
DTSTAMP:20260423T141517
CREATED:20250923T201753Z
LAST-MODIFIED:20250923T201753Z
UID:10002475-1762966800-1762981200@lulusfunfoodmusic.com
SUMMARY:Frank Brown Songwriters Festival Youth Showcase-Gulf Shores
DESCRIPTION:5:00-8:50 Youth Showcase
URL:https://lulusfunfoodmusic.com/event/frank-brown-songwriters-festival-youth-showcase-gulf-shores/
LOCATION:Gulf Shores\, AL
ATTACH;FMTTYPE=image/png:https://lulusfunfoodmusic.com/wp-content/uploads/2024/07/Generic-Music-Photo.png
END:VEVENT
BEGIN:VEVENT
DTSTART;TZID=America/Chicago:20251113T160000
DTEND;TZID=America/Chicago:20251113T200000
DTSTAMP:20260423T141517
CREATED:20250722T142112Z
LAST-MODIFIED:20251020T155254Z
UID:10002409-1763049600-1763064000@lulusfunfoodmusic.com
SUMMARY:Jake Caldwell-Destin
DESCRIPTION:
URL:https://lulusfunfoodmusic.com/event/jake-caldwell-destin/2025-11-13/
LOCATION:Destin\, 4607 Legendary Marina Dr\, Florida\, 32541
ATTACH;FMTTYPE=image/png:https://lulusfunfoodmusic.com/wp-content/uploads/2024/07/Generic-Music-Photo.png
END:VEVENT
BEGIN:VEVENT
DTSTART;TZID=America/Chicago:20251113T170000
DTEND;TZID=America/Chicago:20251113T210000
DTSTAMP:20260423T141517
CREATED:20240712T201015Z
LAST-MODIFIED:20260311T140939Z
UID:10002514-1763053200-1763067600@lulusfunfoodmusic.com
SUMMARY:Big Jon Kelly - North Myrtle Beach
DESCRIPTION:Big Jon Kelly is a solo acoustic performer from Myrtle Beach\, SC. His musical career started as a teenager in Pittsburgh\, PA performing in the successful band “Brothers Kelly” with his older brother\, Aaron. After 23 years as a professional musician\, he has played as all over the east coast and as far west as Hawaii! He has a wide range of vocal capabilities\, performing top-of-the-charts cover songs from practically any era or genre\, as well as dozens of original songs. Big Jon Kelly’s musical influences include Dashboard Confessional\, Blink-182\, Jason Mraz\, Jack Johnson\, Stone Temple Pilots\, Smashing Pumpkins\, Zac Brown Band\, Luke Combs\, Johnny Cash\, Jimmy Buffett\, Billy Joel\, Eagles\, CCR\, The Temptations and many more!
URL:https://lulusfunfoodmusic.com/event/big-jon-kelly-north-myrtle-beach/2025-11-13/
LOCATION:North Myrtle Beach\, 4954 Hwy 17 S\, North Myrtle Beach\, SC\, 29582\, United States
ATTACH;FMTTYPE=image/jpeg:https://lulusfunfoodmusic.com/wp-content/uploads/2024/07/Big-Jon-Kelly.jpg
END:VEVENT
END:VCALENDAR