BEGIN:VCALENDAR
VERSION:2.0
PRODID:-//LuLu&#039;s - ECPv6.15.12.2//NONSGML v1.0//EN
CALSCALE:GREGORIAN
METHOD:PUBLISH
X-WR-CALNAME:LuLu&#039;s
X-ORIGINAL-URL:https://lulusfunfoodmusic.com
X-WR-CALDESC:Events for LuLu&#039;s
REFRESH-INTERVAL;VALUE=DURATION:PT1H
X-Robots-Tag:noindex
X-PUBLISHED-TTL:PT1H
BEGIN:VTIMEZONE
TZID:America/Chicago
BEGIN:DAYLIGHT
TZOFFSETFROM:-0600
TZOFFSETTO:-0500
TZNAME:CDT
DTSTART:20250309T080000
END:DAYLIGHT
BEGIN:STANDARD
TZOFFSETFROM:-0500
TZOFFSETTO:-0600
TZNAME:CST
DTSTART:20251102T070000
END:STANDARD
BEGIN:DAYLIGHT
TZOFFSETFROM:-0600
TZOFFSETTO:-0500
TZNAME:CDT
DTSTART:20260308T080000
END:DAYLIGHT
BEGIN:STANDARD
TZOFFSETFROM:-0500
TZOFFSETTO:-0600
TZNAME:CST
DTSTART:20261101T070000
END:STANDARD
BEGIN:DAYLIGHT
TZOFFSETFROM:-0600
TZOFFSETTO:-0500
TZNAME:CDT
DTSTART:20270314T080000
END:DAYLIGHT
BEGIN:STANDARD
TZOFFSETFROM:-0500
TZOFFSETTO:-0600
TZNAME:CST
DTSTART:20271107T070000
END:STANDARD
END:VTIMEZONE
BEGIN:VEVENT
DTSTART;TZID=America/Chicago:20260514T170000
DTEND;TZID=America/Chicago:20260514T210000
DTSTAMP:20260419T081316
CREATED:20260204T004218Z
LAST-MODIFIED:20260311T041101Z
UID:10003018-1778778000-1778792400@lulusfunfoodmusic.com
SUMMARY:GypsyPearl - Gulf Shores
DESCRIPTION:The GypsyPearl Duo brings a vibrant mix of soulful vocals\, tight harmonies\, and acoustic energy to every performance along the Gulf Coast. Known for their dynamic stage presence and ability to read a crowd\, they blend modern country\, classic rock\, and heartfelt originals into a feel-good show that keeps guests engaged from the first song to the last. \nTheir sound pulls influence from artists like Fleetwood Mac\, Miranda Lambert\, Chris Stapleton\, and The Eagles\, delivering familiar favorites with a fresh\, coastal twist. Whether it’s an upbeat afternoon set or a relaxed evening vibe\, GypsyPearl Duo brings the perfect mix of polish\, personality\, and coastal charm to LuLu’s Gulf Shores.
URL:https://lulusfunfoodmusic.com/event/gypsy-pearl-gulf-shores-2/2026-05-14/
LOCATION:Gulf Shores\, AL
ATTACH;FMTTYPE=image/jpeg:https://lulusfunfoodmusic.com/wp-content/uploads/2024/07/GypsyPearl.jpg
END:VEVENT
END:VCALENDAR