BEGIN:VCALENDAR
VERSION:2.0
PRODID:-//LuLu&#039;s - ECPv6.15.12.2//NONSGML v1.0//EN
CALSCALE:GREGORIAN
METHOD:PUBLISH
X-WR-CALNAME:LuLu&#039;s
X-ORIGINAL-URL:https://lulusfunfoodmusic.com
X-WR-CALDESC:Events for LuLu&#039;s
REFRESH-INTERVAL;VALUE=DURATION:PT1H
X-Robots-Tag:noindex
X-PUBLISHED-TTL:PT1H
BEGIN:VTIMEZONE
TZID:America/Chicago
BEGIN:DAYLIGHT
TZOFFSETFROM:-0600
TZOFFSETTO:-0500
TZNAME:CDT
DTSTART:20250309T080000
END:DAYLIGHT
BEGIN:STANDARD
TZOFFSETFROM:-0500
TZOFFSETTO:-0600
TZNAME:CST
DTSTART:20251102T070000
END:STANDARD
BEGIN:DAYLIGHT
TZOFFSETFROM:-0600
TZOFFSETTO:-0500
TZNAME:CDT
DTSTART:20260308T080000
END:DAYLIGHT
BEGIN:STANDARD
TZOFFSETFROM:-0500
TZOFFSETTO:-0600
TZNAME:CST
DTSTART:20261101T070000
END:STANDARD
BEGIN:DAYLIGHT
TZOFFSETFROM:-0600
TZOFFSETTO:-0500
TZNAME:CDT
DTSTART:20270314T080000
END:DAYLIGHT
BEGIN:STANDARD
TZOFFSETFROM:-0500
TZOFFSETTO:-0600
TZNAME:CST
DTSTART:20271107T070000
END:STANDARD
END:VTIMEZONE
BEGIN:VEVENT
DTSTART;TZID=America/Chicago:20260506T170000
DTEND;TZID=America/Chicago:20260506T210000
DTSTAMP:20260421T033450
CREATED:20260209T035617Z
LAST-MODIFIED:20260209T035617Z
UID:10002776-1778086800-1778101200@lulusfunfoodmusic.com
SUMMARY:Albert Simpson - Gulf Shores
DESCRIPTION:Albert Simpson is a versatile musician from Gadsden\, Alabama\, known for his engaging live performances along the Gulf Coast. Blending a unique style often described as Southern-fried hippie funk\, Albert brings a rich mix of soulful songwriting\, dynamic guitar work\, and heartfelt vocals to every set. He regularly performs at venues like LuLu’s in Gulf Shores\, Alabama\, where his eclectic repertoire and laid-back stage presence resonate with crowds enjoying the coastal music scene. Over the years\, Albert’s musical journey has seen him collaborate with a wide range of artists\, drawing inspiration from genres spanning rock\, folk\, blues\, and jam band traditions — all delivered with his distinctive Alabama charm.
URL:https://lulusfunfoodmusic.com/event/albert-simpson-gulf-shores-2/2026-05-06/
LOCATION:Gulf Shores\, AL
ATTACH;FMTTYPE=image/jpeg:https://lulusfunfoodmusic.com/wp-content/uploads/2024/07/Albert-Simpson.jpg
END:VEVENT
BEGIN:VEVENT
DTSTART;TZID=America/Chicago:20260507T170000
DTEND;TZID=America/Chicago:20260507T210000
DTSTAMP:20260421T033450
CREATED:20260209T035617Z
LAST-MODIFIED:20260209T035617Z
UID:10002777-1778173200-1778187600@lulusfunfoodmusic.com
SUMMARY:Albert Simpson - Gulf Shores
DESCRIPTION:Albert Simpson is a versatile musician from Gadsden\, Alabama\, known for his engaging live performances along the Gulf Coast. Blending a unique style often described as Southern-fried hippie funk\, Albert brings a rich mix of soulful songwriting\, dynamic guitar work\, and heartfelt vocals to every set. He regularly performs at venues like LuLu’s in Gulf Shores\, Alabama\, where his eclectic repertoire and laid-back stage presence resonate with crowds enjoying the coastal music scene. Over the years\, Albert’s musical journey has seen him collaborate with a wide range of artists\, drawing inspiration from genres spanning rock\, folk\, blues\, and jam band traditions — all delivered with his distinctive Alabama charm.
URL:https://lulusfunfoodmusic.com/event/albert-simpson-gulf-shores-2/2026-05-07/
LOCATION:Gulf Shores\, AL
ATTACH;FMTTYPE=image/jpeg:https://lulusfunfoodmusic.com/wp-content/uploads/2024/07/Albert-Simpson.jpg
END:VEVENT
END:VCALENDAR